146.58590100000001
0.0
0.0
-146.58590100000001
19679.139289725539
249786.95053340477
